BEGIN:VCALENDAR
VERSION:2.0
PRODID:-//Grillwerkstatt-Ruhrgebiet - ECPv6.15.18//NONSGML v1.0//EN
CALSCALE:GREGORIAN
METHOD:PUBLISH
X-WR-CALNAME:Grillwerkstatt-Ruhrgebiet
X-ORIGINAL-URL:https://grillwerkstatt-ruhrgebiet.de
X-WR-CALDESC:Veranstaltungen für Grillwerkstatt-Ruhrgebiet
REFRESH-INTERVAL;VALUE=DURATION:PT1H
X-Robots-Tag:noindex
X-PUBLISHED-TTL:PT1H
BEGIN:VTIMEZONE
TZID:Europe/Berlin
BEGIN:DAYLIGHT
TZOFFSETFROM:+0100
TZOFFSETTO:+0200
TZNAME:CEST
DTSTART:20210328T010000
END:DAYLIGHT
BEGIN:STANDARD
TZOFFSETFROM:+0200
TZOFFSETTO:+0100
TZNAME:CET
DTSTART:20211031T010000
END:STANDARD
BEGIN:DAYLIGHT
TZOFFSETFROM:+0100
TZOFFSETTO:+0200
TZNAME:CEST
DTSTART:20220327T010000
END:DAYLIGHT
BEGIN:STANDARD
TZOFFSETFROM:+0200
TZOFFSETTO:+0100
TZNAME:CET
DTSTART:20221030T010000
END:STANDARD
BEGIN:DAYLIGHT
TZOFFSETFROM:+0100
TZOFFSETTO:+0200
TZNAME:CEST
DTSTART:20230326T010000
END:DAYLIGHT
BEGIN:STANDARD
TZOFFSETFROM:+0200
TZOFFSETTO:+0100
TZNAME:CET
DTSTART:20231029T010000
END:STANDARD
END:VTIMEZONE
BEGIN:VEVENT
DTSTART;TZID=Europe/Berlin:20220706T170000
DTEND;TZID=Europe/Berlin:20220706T210000
DTSTAMP:20260421T134937
CREATED:20220329T141336Z
LAST-MODIFIED:20220329T141336Z
UID:16949-1657126800-1657141200@grillwerkstatt-ruhrgebiet.de
SUMMARY:Grillkurs *Kulinarische Weltreise*
DESCRIPTION:Kulinarische Weltreise\n  \nKommt in die Genusswelt der Grillwerkstatt-Ruhrgebiet! \nBei dem Kurs *Kulinarische Weltreise* werden wir 5 Weltstädte abklappern. \nVon Asien bis hin zu Amerika\, Irland\, Dänemark\, Spanien und Italien. \nWir werden verschiedene Methoden anwenden und zeigen\, wie man perfekt den Grill betätigt. Von direktem oder indirektem Grillen\, bis hin zur Reinigung des Grills werden wir Euch alles zeigen. \nWir werden ein 5 Gänge Menü zubereiten und grillen. \nMenü:\nAsien \nTeriyaki Chicken mit Salat und Sesam Dressing \n*** \nAmerika \nClassic Beef Burger \n*** \nSpanien \nIberico Schweinefiletmedallions mit kanarischen Kartoffeln und einer roten Mojo \n*** \nItalien \nKalbsinvoltinis mit Datteln und Parmaschinken gefüllt und dazu ein klassisches Risotto \n*** \nIrland \nSmoky Salmon mit Guinessbeer mariniert und dazu gibt es einen leckeren Salat mit Croutons und Orangen \n*** \nDeutschland \nBaumkuchen mit Vanillesoße \n  \nZur Begrüßung stoßen wir zunächst mit einem Aperitif an. \nBitte beachtet das unsere Kurse erst ab 8 Personen stattfinden! \nBier\, Wasser\, alkoholfreie Getränke und zum Abschluss ein Espresso sind im Preis enthalten. Im kursüblichen Umfang \nKochschürzen werden für den Kurs gestellt und sind nicht im Preis enthalten! \n 
URL:https://grillwerkstatt-ruhrgebiet.de/kurs/grillkurs-kulinarische-weltreise-2/
CATEGORIES:Grillkurse
ATTACH;FMTTYPE=image/jpeg:https://grillwerkstatt-ruhrgebiet.de/wp-content/uploads/shutterstock_1030312150.jpg
ORGANIZER;CN="Grillwerkstatt Ruhrgebiet":MAILTO:info@grillwerkstatt-ruhrgebiet.de
END:VEVENT
END:VCALENDAR