BEGIN:VCALENDAR
VERSION:2.0
PRODID:-//Grillwerkstatt-Ruhrgebiet - ECPv6.15.18//NONSGML v1.0//EN
CALSCALE:GREGORIAN
METHOD:PUBLISH
X-WR-CALNAME:Grillwerkstatt-Ruhrgebiet
X-ORIGINAL-URL:https://grillwerkstatt-ruhrgebiet.de
X-WR-CALDESC:Veranstaltungen für Grillwerkstatt-Ruhrgebiet
REFRESH-INTERVAL;VALUE=DURATION:PT1H
X-Robots-Tag:noindex
X-PUBLISHED-TTL:PT1H
BEGIN:VTIMEZONE
TZID:Europe/Berlin
BEGIN:DAYLIGHT
TZOFFSETFROM:+0100
TZOFFSETTO:+0200
TZNAME:CEST
DTSTART:20200329T010000
END:DAYLIGHT
BEGIN:STANDARD
TZOFFSETFROM:+0200
TZOFFSETTO:+0100
TZNAME:CET
DTSTART:20201025T010000
END:STANDARD
BEGIN:DAYLIGHT
TZOFFSETFROM:+0100
TZOFFSETTO:+0200
TZNAME:CEST
DTSTART:20210328T010000
END:DAYLIGHT
BEGIN:STANDARD
TZOFFSETFROM:+0200
TZOFFSETTO:+0100
TZNAME:CET
DTSTART:20211031T010000
END:STANDARD
BEGIN:DAYLIGHT
TZOFFSETFROM:+0100
TZOFFSETTO:+0200
TZNAME:CEST
DTSTART:20220327T010000
END:DAYLIGHT
BEGIN:STANDARD
TZOFFSETFROM:+0200
TZOFFSETTO:+0100
TZNAME:CET
DTSTART:20221030T010000
END:STANDARD
END:VTIMEZONE
BEGIN:VEVENT
DTSTART;TZID=Europe/Berlin:20211104T170000
DTEND;TZID=Europe/Berlin:20211104T210000
DTSTAMP:20260421T114044
CREATED:20210920T104435Z
LAST-MODIFIED:20210920T104435Z
UID:15505-1636045200-1636059600@grillwerkstatt-ruhrgebiet.de
SUMMARY:Grillkurs *Best of Grillwerkstatt-Ruhrgebiet*
DESCRIPTION:Best of Grillwerkstatt-Ruhrgebiet\nDie Grillwerkstatt-Ruhrgebiet bietet seine besten Gerichte an! Ihr wollt noch einmal unsere Highlights genießen? Dann seid Ihr bei uns genau richtig. Kommt vorbei und lernt alles rund um das Thema Holzkohle\, Gasgrill\, Beefer\, Feuerplatte und co. und direktes oder indirektes Grillen. \nWir werden folgendes Menü grillen: \nFlammkuchen vom Pizzastein \nChicken Wings mit Alabama White BBQ-Sauce \nBeef Steaks mit Murray River Salt \nMaracujá Ribs mit einer karibischen Salsa \nBurger nach Grillwerkstatt-Art von der Feuerplatte \nGegrillte Ananas mit Pancakes und Schokoladensauce \nFleisch grillen ist gar nicht so einfach! Es gibt verschiedene Garmöglichkeiten\, ob direkt\, indirekt\, Sous vide\, 800 Grad Oberhitze und viele andere Methoden. \nDie Kerntemperatur vom Fleisch ist das A und O\, deshalb zeigen wir Euch in unserer Grillakademie\, was man über das wertvolle Fleisch wissen muss! \nZur Begrüßung stoßen wir zunächst mit einem Aperitif an. \nBier\, Wasser\, alkoholfreie Getränke und zum Abschluss ein Espresso sind im Preis enthalten. Im kursüblichen Umfang \nKochschürzen werden für den Kurs gestellt.
URL:https://grillwerkstatt-ruhrgebiet.de/kurs/grillkurs-best-of-grillwerkstatt-ruhrgebiet/
LOCATION:NRW
CATEGORIES:Grillkurse
ATTACH;FMTTYPE=image/png:https://grillwerkstatt-ruhrgebiet.de/wp-content/uploads/2017/12/Grillwerkstatt_Logo_Transparent-800-retina.png
ORGANIZER;CN="Grillwerkstatt Ruhrgebiet":MAILTO:info@grillwerkstatt-ruhrgebiet.de
END:VEVENT
BEGIN:VEVENT
DTSTART;TZID=Europe/Berlin:20211118T170000
DTEND;TZID=Europe/Berlin:20211118T210000
DTSTAMP:20260421T114044
CREATED:20210920T110203Z
LAST-MODIFIED:20210920T110203Z
UID:15526-1637254800-1637269200@grillwerkstatt-ruhrgebiet.de
SUMMARY:Grillkurs *Gasgrill Only*
DESCRIPTION:Gasgrill Kurs\n  \n  \nIhr habt einen Gasgrill und wisst nicht\, was man damit alles anstellen kann? Dann seid Ihr bei uns genau richtig! Denn wir zeigen Euch\, wie man mit dem Gasgrill umgeht und was man damit alles machen kann. Die Grills kommen von der Marke Weber. \nReinigung\, Grillen\, Zubehör richtig verwenden und vieles mehr… \nWir werden ein 5 Gänge Menü grillen. \nMenü\nGarnelen im Speckmantel von der Platte gegrillt\, dazu eine Aioli und Salat \n*** \nSaltimbocca Spieße vom Kalb mit ITL.Gemüse aus dem Gußwok \n*** \nBeefburger mit einer Heidelbeerbbqsoße \nund Ziegenkäse \n*** \nPrime Beef Steaks mit gegrillten Kürbis und Gemüse der Saison \n*** \nApple-Crumble mit Vanillesoße \n  \n  \n  \nBier\, Wasser\, alkoholfreie Getränke und zum Abschluss ein Espresso sind im Preis enthalten. Im kursüblichen Umfang. \nKochschürzen werden für den Abend gestellt.
URL:https://grillwerkstatt-ruhrgebiet.de/kurs/grillkurs-gasgrill-only-9/
LOCATION:NRW
CATEGORIES:Grillkurse
ATTACH;FMTTYPE=image/jpeg:https://grillwerkstatt-ruhrgebiet.de/wp-content/uploads/2018/01/IMG_2112-e1516153893762.jpg
ORGANIZER;CN="Grillwerkstatt Ruhrgebiet":MAILTO:info@grillwerkstatt-ruhrgebiet.de
END:VEVENT
END:VCALENDAR